BEGIN:VCALENDAR
VERSION:2.0
PRODID:-//Związek Harcerstwa Polskiego Hufiec Czechowice-Dziedzice - ECPv6.15.20//NONSGML v1.0//EN
CALSCALE:GREGORIAN
METHOD:PUBLISH
X-ORIGINAL-URL:https://czechowice-dziedzice.zhp.pl
X-WR-CALDESC:Wydarzenia dla Związek Harcerstwa Polskiego Hufiec Czechowice-Dziedzice
REFRESH-INTERVAL;VALUE=DURATION:PT1H
X-Robots-Tag:noindex
X-PUBLISHED-TTL:PT1H
BEGIN:VTIMEZONE
TZID:Europe/Warsaw
BEGIN:DAYLIGHT
TZOFFSETFROM:+0100
TZOFFSETTO:+0200
TZNAME:CEST
DTSTART:20230326T010000
END:DAYLIGHT
BEGIN:STANDARD
TZOFFSETFROM:+0200
TZOFFSETTO:+0100
TZNAME:CET
DTSTART:20231029T010000
END:STANDARD
BEGIN:DAYLIGHT
TZOFFSETFROM:+0100
TZOFFSETTO:+0200
TZNAME:CEST
DTSTART:20240331T010000
END:DAYLIGHT
BEGIN:STANDARD
TZOFFSETFROM:+0200
TZOFFSETTO:+0100
TZNAME:CET
DTSTART:20241027T010000
END:STANDARD
BEGIN:DAYLIGHT
TZOFFSETFROM:+0100
TZOFFSETTO:+0200
TZNAME:CEST
DTSTART:20250330T010000
END:DAYLIGHT
BEGIN:STANDARD
TZOFFSETFROM:+0200
TZOFFSETTO:+0100
TZNAME:CET
DTSTART:20251026T010000
END:STANDARD
BEGIN:DAYLIGHT
TZOFFSETFROM:+0100
TZOFFSETTO:+0200
TZNAME:CEST
DTSTART:20260329T010000
END:DAYLIGHT
BEGIN:STANDARD
TZOFFSETFROM:+0200
TZOFFSETTO:+0100
TZNAME:CET
DTSTART:20261025T010000
END:STANDARD
END:VTIMEZONE
BEGIN:VEVENT
DTSTART;TZID=Europe/Warsaw:20250408T173000
DTEND;TZID=Europe/Warsaw:20250408T183000
DTSTAMP:20260426T003042
CREATED:20241127T193318Z
LAST-MODIFIED:20241127T193318Z
UID:2544-1744133400-1744137000@czechowice-dziedzice.zhp.pl
SUMMARY:Posiedzenie Komisji Stopni Instruktorskich
DESCRIPTION:
URL:https://czechowice-dziedzice.zhp.pl/event/posiedzenie-komisji-stopni-instruktorskich-17/
LOCATION:Dom Harcerza\, Legionów 145\, Czechowice-Dziedzice
END:VEVENT
BEGIN:VEVENT
DTSTART;TZID=Europe/Warsaw:20250311T173000
DTEND;TZID=Europe/Warsaw:20250311T183000
DTSTAMP:20260426T003042
CREATED:20241127T193255Z
LAST-MODIFIED:20241127T193255Z
UID:2542-1741714200-1741717800@czechowice-dziedzice.zhp.pl
SUMMARY:Posiedzenie Komisji Stopni Instruktorskich
DESCRIPTION:
URL:https://czechowice-dziedzice.zhp.pl/event/posiedzenie-komisji-stopni-instruktorskich-16/
LOCATION:Dom Harcerza\, Legionów 145\, Czechowice-Dziedzice
END:VEVENT
BEGIN:VEVENT
DTSTART;TZID=Europe/Warsaw:20250211T173000
DTEND;TZID=Europe/Warsaw:20250211T183000
DTSTAMP:20260426T003042
CREATED:20241127T193219Z
LAST-MODIFIED:20241127T193219Z
UID:2540-1739295000-1739298600@czechowice-dziedzice.zhp.pl
SUMMARY:Posiedzenie Komisji Stopni Instruktorskich
DESCRIPTION:
URL:https://czechowice-dziedzice.zhp.pl/event/posiedzenie-komisji-stopni-instruktorskich-15/
LOCATION:Dom Harcerza\, Legionów 145\, Czechowice-Dziedzice
END:VEVENT
BEGIN:VEVENT
DTSTART;TZID=Europe/Warsaw:20250114T173000
DTEND;TZID=Europe/Warsaw:20250114T183000
DTSTAMP:20260426T003042
CREATED:20241127T193133Z
LAST-MODIFIED:20241127T193133Z
UID:2538-1736875800-1736879400@czechowice-dziedzice.zhp.pl
SUMMARY:Posiedzenie Komisji Stopni Instruktorskich
DESCRIPTION:
URL:https://czechowice-dziedzice.zhp.pl/event/posiedzenie-komisji-stopni-instruktorskich-14/
LOCATION:Dom Harcerza\, Legionów 145\, Czechowice-Dziedzice
END:VEVENT
BEGIN:VEVENT
DTSTART;TZID=Europe/Warsaw:20241211T173000
DTEND;TZID=Europe/Warsaw:20241211T183000
DTSTAMP:20260426T003042
CREATED:20241127T192951Z
LAST-MODIFIED:20241127T193148Z
UID:2536-1733938200-1733941800@czechowice-dziedzice.zhp.pl
SUMMARY:Posiedzenie Komisji Stopni Instruktorskich
DESCRIPTION:
URL:https://czechowice-dziedzice.zhp.pl/event/posiedzenie-komisji-stopni-instruktorskich-13/
LOCATION:Dom Harcerza\, Legionów 145\, Czechowice-Dziedzice
END:VEVENT
BEGIN:VEVENT
DTSTART;VALUE=DATE:20240830
DTEND;VALUE=DATE:20240902
DTSTAMP:20260426T003042
CREATED:20231113T170250Z
LAST-MODIFIED:20231113T170250Z
UID:2292-1724976000-1725235199@czechowice-dziedzice.zhp.pl
SUMMARY:Wydarzenie dla Kadry Hufca
DESCRIPTION:
URL:https://czechowice-dziedzice.zhp.pl/event/wydarzenie-dla-kadry-hufca/
LOCATION:Baza Obozowa Hufca ZHP Czechowice-Dziedzice w Podlesicach
END:VEVENT
BEGIN:VEVENT
DTSTART;VALUE=DATE:20240819
DTEND;VALUE=DATE:20240824
DTSTAMP:20260426T003042
CREATED:20231113T170209Z
LAST-MODIFIED:20231113T170209Z
UID:2290-1724025600-1724457599@czechowice-dziedzice.zhp.pl
SUMMARY:Kwaterka poobozowa
DESCRIPTION:
URL:https://czechowice-dziedzice.zhp.pl/event/kwaterka-poobozowa/
LOCATION:Baza Obozowa Hufca ZHP Czechowice-Dziedzice w Podlesicach
END:VEVENT
BEGIN:VEVENT
DTSTART;VALUE=DATE:20240817
DTEND;VALUE=DATE:20240901
DTSTAMP:20260426T003042
CREATED:20231113T170338Z
LAST-MODIFIED:20231113T170338Z
UID:2294-1723852800-1725148799@czechowice-dziedzice.zhp.pl
SUMMARY:Piknik przy MDK
DESCRIPTION:
URL:https://czechowice-dziedzice.zhp.pl/event/piknik-przy-mdk/
LOCATION:Miejski Dom Kultury\, Niepodległości 42\, Czechowice-Dziedzice
END:VEVENT
BEGIN:VEVENT
DTSTART;VALUE=DATE:20240624
DTEND;VALUE=DATE:20240819
DTSTAMP:20260426T003042
CREATED:20231113T170113Z
LAST-MODIFIED:20231113T170113Z
UID:2288-1719187200-1724025599@czechowice-dziedzice.zhp.pl
SUMMARY:HAL Podlesice
DESCRIPTION:
URL:https://czechowice-dziedzice.zhp.pl/event/hal-podlesice/
LOCATION:Baza Obozowa Hufca ZHP Czechowice-Dziedzice w Podlesicach
END:VEVENT
BEGIN:VEVENT
DTSTART;VALUE=DATE:20240618
DTEND;VALUE=DATE:20240624
DTSTAMP:20260426T003042
CREATED:20231113T165902Z
LAST-MODIFIED:20231113T165902Z
UID:2282-1718668800-1719187199@czechowice-dziedzice.zhp.pl
SUMMARY:Kwaterka przedobozowa
DESCRIPTION:
URL:https://czechowice-dziedzice.zhp.pl/event/kwaterka-przedobozowa/
LOCATION:Baza Obozowa Hufca ZHP Czechowice-Dziedzice w Podlesicach
END:VEVENT
BEGIN:VEVENT
DTSTART;TZID=Europe/Warsaw:20240617T180000
DTEND;TZID=Europe/Warsaw:20240617T190000
DTSTAMP:20260426T003042
CREATED:20231113T165815Z
LAST-MODIFIED:20231113T165815Z
UID:2279-1718647200-1718650800@czechowice-dziedzice.zhp.pl
SUMMARY:Zakończenie Roku Harcerskiego
DESCRIPTION:
URL:https://czechowice-dziedzice.zhp.pl/event/zakonczenie-roku-harcerskiego/
LOCATION:Stanica Harcerzy Wodnych w Wiśle Wielkiej
END:VEVENT
BEGIN:VEVENT
DTSTART;TZID=Europe/Warsaw:20240604T173000
DTEND;TZID=Europe/Warsaw:20240604T183000
DTSTAMP:20260426T003042
CREATED:20240528T070643Z
LAST-MODIFIED:20240528T070643Z
UID:2507-1717522200-1717525800@czechowice-dziedzice.zhp.pl
SUMMARY:Posiedzenie Komisji Stopni Instruktorskich
DESCRIPTION:
URL:https://czechowice-dziedzice.zhp.pl/event/posiedzenie-komisji-stopni-instruktorskich/
LOCATION:Dom Harcerza\, Legionów 145\, Czechowice-Dziedzice
END:VEVENT
BEGIN:VEVENT
DTSTART;TZID=Europe/Warsaw:20240603T200000
DTEND;TZID=Europe/Warsaw:20240603T210000
DTSTAMP:20260426T003042
CREATED:20231113T165610Z
LAST-MODIFIED:20231113T165610Z
UID:2277-1717444800-1717448400@czechowice-dziedzice.zhp.pl
SUMMARY:Posiedzenie Komendy Hufca
DESCRIPTION:
URL:https://czechowice-dziedzice.zhp.pl/event/posiedzenie-komendy-hufca-9/
LOCATION:Dom Harcerza\, Legionów 145\, Czechowice-Dziedzice
END:VEVENT
BEGIN:VEVENT
DTSTART;VALUE=DATE:20240601
DTEND;VALUE=DATE:20240701
DTSTAMP:20260426T003042
CREATED:20231113T170033Z
LAST-MODIFIED:20231113T170033Z
UID:2286-1717200000-1719791999@czechowice-dziedzice.zhp.pl
SUMMARY:Powitanie Lata w Szwajcarskiej Dolinie
DESCRIPTION:
URL:https://czechowice-dziedzice.zhp.pl/event/powitanie-lata-w-szwajcarskiej-dolinie/
END:VEVENT
BEGIN:VEVENT
DTSTART;VALUE=DATE:20240601
DTEND;VALUE=DATE:20240701
DTSTAMP:20260426T003042
CREATED:20231113T165947Z
LAST-MODIFIED:20231113T165947Z
UID:2284-1717200000-1719791999@czechowice-dziedzice.zhp.pl
SUMMARY:Zbiórka programowa
DESCRIPTION:Termin do ustalenia
URL:https://czechowice-dziedzice.zhp.pl/event/zbiorka-programowa/
LOCATION:Dom Harcerza\, Legionów 145\, Czechowice-Dziedzice
END:VEVENT
BEGIN:VEVENT
DTSTART;VALUE=DATE:20240601
DTEND;VALUE=DATE:20240602
DTSTAMP:20260426T003042
CREATED:20231113T165525Z
LAST-MODIFIED:20231113T165525Z
UID:2274-1717200000-1717286399@czechowice-dziedzice.zhp.pl
SUMMARY:Zapaleńcy
DESCRIPTION:
URL:https://czechowice-dziedzice.zhp.pl/event/zapalency/
LOCATION:Park Północ
END:VEVENT
BEGIN:VEVENT
DTSTART;VALUE=DATE:20240519
DTEND;VALUE=DATE:20240520
DTSTAMP:20260426T003042
CREATED:20231113T165435Z
LAST-MODIFIED:20231113T165435Z
UID:2272-1716076800-1716163199@czechowice-dziedzice.zhp.pl
SUMMARY:Rodzinny Piknik Harcerski
DESCRIPTION:
URL:https://czechowice-dziedzice.zhp.pl/event/rodzinny-piknik-harcerski/
LOCATION:Park Szwajcarska Dolina
END:VEVENT
BEGIN:VEVENT
DTSTART;TZID=Europe/Warsaw:20240513T190000
DTEND;TZID=Europe/Warsaw:20240513T200000
DTSTAMP:20260426T003042
CREATED:20231113T165337Z
LAST-MODIFIED:20231113T165349Z
UID:2270-1715626800-1715630400@czechowice-dziedzice.zhp.pl
SUMMARY:Odprawa funkcyjnych
DESCRIPTION:
URL:https://czechowice-dziedzice.zhp.pl/event/odprawa-funkcyjnych-10/
LOCATION:Online
END:VEVENT
BEGIN:VEVENT
DTSTART;VALUE=DATE:20240503
DTEND;VALUE=DATE:20240504
DTSTAMP:20260426T003042
CREATED:20231113T164736Z
LAST-MODIFIED:20231113T164750Z
UID:2267-1714694400-1714780799@czechowice-dziedzice.zhp.pl
SUMMARY:Obchody Miejskie z okazji 3 maja
DESCRIPTION:
URL:https://czechowice-dziedzice.zhp.pl/event/obchody-miejskie-z-okazji-3-maja/
LOCATION:Gmina Czechowice-Dziedzice\, Goczałkowice-Zdrój\, Bestwina\, Powiat Pszczyna
END:VEVENT
BEGIN:VEVENT
DTSTART;VALUE=DATE:20240501
DTEND;VALUE=DATE:20240506
DTSTAMP:20260426T003042
CREATED:20231113T164648Z
LAST-MODIFIED:20231113T164648Z
UID:2264-1714521600-1714953599@czechowice-dziedzice.zhp.pl
SUMMARY:Majówka remontowa na Bazie
DESCRIPTION:
URL:https://czechowice-dziedzice.zhp.pl/event/majowka-remontowa-na-bazie/
LOCATION:Baza Obozowa Hufca ZHP Czechowice-Dziedzice w Podlesicach
END:VEVENT
BEGIN:VEVENT
DTSTART;TZID=Europe/Warsaw:20240415T190000
DTEND;TZID=Europe/Warsaw:20240415T200000
DTSTAMP:20260426T003042
CREATED:20231113T164451Z
LAST-MODIFIED:20231113T164451Z
UID:2262-1713207600-1713211200@czechowice-dziedzice.zhp.pl
SUMMARY:Odprawa funkcyjnych
DESCRIPTION:
URL:https://czechowice-dziedzice.zhp.pl/event/odprawa-funkcyjnych-9/
LOCATION:Online
END:VEVENT
BEGIN:VEVENT
DTSTART;TZID=Europe/Warsaw:20240408T200000
DTEND;TZID=Europe/Warsaw:20240408T210000
DTSTAMP:20260426T003042
CREATED:20231113T164405Z
LAST-MODIFIED:20231113T164405Z
UID:2260-1712606400-1712610000@czechowice-dziedzice.zhp.pl
SUMMARY:Posiedzenie Komendy Hufca
DESCRIPTION:
URL:https://czechowice-dziedzice.zhp.pl/event/posiedzenie-komendy-hufca-8/
LOCATION:Dom Harcerza\, Legionów 145\, Czechowice-Dziedzice
END:VEVENT
BEGIN:VEVENT
DTSTART;VALUE=DATE:20240318
DTEND;VALUE=DATE:20240319
DTSTAMP:20260426T003042
CREATED:20231113T164125Z
LAST-MODIFIED:20231113T164125Z
UID:2258-1710720000-1710806399@czechowice-dziedzice.zhp.pl
SUMMARY:Odprawa funkcyjnych
DESCRIPTION:
URL:https://czechowice-dziedzice.zhp.pl/event/odprawa-funkcyjnych-8/
LOCATION:Goczałkowice
END:VEVENT
BEGIN:VEVENT
DTSTART;VALUE=DATE:20240229
DTEND;VALUE=DATE:20240301
DTSTAMP:20260426T003042
CREATED:20231113T164032Z
LAST-MODIFIED:20231113T164032Z
UID:2256-1709164800-1709251199@czechowice-dziedzice.zhp.pl
SUMMARY:Imieniny Zucha
DESCRIPTION:
URL:https://czechowice-dziedzice.zhp.pl/event/imieniny-zucha/
END:VEVENT
BEGIN:VEVENT
DTSTART;TZID=Europe/Warsaw:20240224T180000
DTEND;TZID=Europe/Warsaw:20240224T200000
DTSTAMP:20260426T003042
CREATED:20231113T163954Z
LAST-MODIFIED:20240214T193115Z
UID:2254-1708797600-1708804800@czechowice-dziedzice.zhp.pl
SUMMARY:Kominek z okazji Dnia Myśli Braterskiej
DESCRIPTION:
URL:https://czechowice-dziedzice.zhp.pl/event/zlot-z-okazji-dnia-mysli-braterskiej/
LOCATION:Czechowice-Dziedzice
END:VEVENT
BEGIN:VEVENT
DTSTART;TZID=Europe/Warsaw:20240212T190000
DTEND;TZID=Europe/Warsaw:20240212T200000
DTSTAMP:20260426T003042
CREATED:20231113T163902Z
LAST-MODIFIED:20231113T163902Z
UID:2252-1707764400-1707768000@czechowice-dziedzice.zhp.pl
SUMMARY:Odprawa funkcyjnych
DESCRIPTION:
URL:https://czechowice-dziedzice.zhp.pl/event/odprawa-funkcyjnych-7/
LOCATION:Online
END:VEVENT
BEGIN:VEVENT
DTSTART;TZID=Europe/Warsaw:20240205T200000
DTEND;TZID=Europe/Warsaw:20240205T210000
DTSTAMP:20260426T003042
CREATED:20231113T163818Z
LAST-MODIFIED:20231113T163818Z
UID:2250-1707163200-1707166800@czechowice-dziedzice.zhp.pl
SUMMARY:Posiedzenie Komendy Hufca
DESCRIPTION:
URL:https://czechowice-dziedzice.zhp.pl/event/posiedzenie-komendy-hufca-7/
LOCATION:Dom Harcerza\, Legionów 145\, Czechowice-Dziedzice
END:VEVENT
BEGIN:VEVENT
DTSTART;VALUE=DATE:20240128
DTEND;VALUE=DATE:20240129
DTSTAMP:20260426T003042
CREATED:20231113T163715Z
LAST-MODIFIED:20231113T163715Z
UID:2248-1706400000-1706486399@czechowice-dziedzice.zhp.pl
SUMMARY:Finał WOŚP
DESCRIPTION:
URL:https://czechowice-dziedzice.zhp.pl/event/final-wosp/
LOCATION:Gmina Czechowice-Dziedzice\, Goczałkowice-Zdrój\, Bestwina\, Powiat Pszczyna
END:VEVENT
BEGIN:VEVENT
DTSTART;TZID=Europe/Warsaw:20240115T190000
DTEND;TZID=Europe/Warsaw:20240115T200000
DTSTAMP:20260426T003042
CREATED:20231113T142427Z
LAST-MODIFIED:20231113T142427Z
UID:2243-1705345200-1705348800@czechowice-dziedzice.zhp.pl
SUMMARY:Odprawa funkcyjnych
DESCRIPTION:
URL:https://czechowice-dziedzice.zhp.pl/event/odprawa-funkcyjnych-6/
LOCATION:Online
END:VEVENT
BEGIN:VEVENT
DTSTART;VALUE=DATE:20240115
DTEND;VALUE=DATE:20240116
DTSTAMP:20260426T003042
CREATED:20231113T163604Z
LAST-MODIFIED:20231113T163622Z
UID:2245-1705276800-1705363199@czechowice-dziedzice.zhp.pl
SUMMARY:Dzień Bohaterów Hufca
DESCRIPTION:W jednostkach
URL:https://czechowice-dziedzice.zhp.pl/event/dzien-bohaterow-hufca-2/
END:VEVENT
END:VCALENDAR